BEGIN:VCALENDAR
VERSION:2.0
PRODID:-//Bishop Ranch - ECPv6.15.20//NONSGML v1.0//EN
CALSCALE:GREGORIAN
METHOD:PUBLISH
X-ORIGINAL-URL:https://www.bishopranch.com
X-WR-CALDESC:Events for Bishop Ranch
REFRESH-INTERVAL;VALUE=DURATION:PT1H
X-Robots-Tag:noindex
X-PUBLISHED-TTL:PT1H
BEGIN:VTIMEZONE
TZID:America/Denver
BEGIN:DAYLIGHT
TZOFFSETFROM:-0700
TZOFFSETTO:-0600
TZNAME:MDT
DTSTART:20240310T090000
END:DAYLIGHT
BEGIN:STANDARD
TZOFFSETFROM:-0600
TZOFFSETTO:-0700
TZNAME:MST
DTSTART:20241103T080000
END:STANDARD
BEGIN:DAYLIGHT
TZOFFSETFROM:-0700
TZOFFSETTO:-0600
TZNAME:MDT
DTSTART:20250309T090000
END:DAYLIGHT
BEGIN:STANDARD
TZOFFSETFROM:-0600
TZOFFSETTO:-0700
TZNAME:MST
DTSTART:20251102T080000
END:STANDARD
BEGIN:DAYLIGHT
TZOFFSETFROM:-0700
TZOFFSETTO:-0600
TZNAME:MDT
DTSTART:20260308T090000
END:DAYLIGHT
BEGIN:STANDARD
TZOFFSETFROM:-0600
TZOFFSETTO:-0700
TZNAME:MST
DTSTART:20261101T080000
END:STANDARD
BEGIN:DAYLIGHT
TZOFFSETFROM:-0700
TZOFFSETTO:-0600
TZNAME:MDT
DTSTART:20270314T090000
END:DAYLIGHT
BEGIN:STANDARD
TZOFFSETFROM:-0600
TZOFFSETTO:-0700
TZNAME:MST
DTSTART:20271107T080000
END:STANDARD
END:VTIMEZONE
BEGIN:VEVENT
DTSTART;TZID=America/Denver:20260412T140000
DTEND;TZID=America/Denver:20260412T160000
DTSTAMP:20260425T064840
CREATED:20250102T220952Z
LAST-MODIFIED:20260225T222454Z
UID:10000089-1776002400-1776009600@www.bishopranch.com
SUMMARY:Holi Celebration
DESCRIPTION:Join us for Holi\, the vibrant Indian spring festival of color and joy. Experience the energy of music\, dancing\, and the playful tradition of throwing colors at 2700 Camino Ramon\, adjacent to City Center. Admission is $10\, so gather your friends and family and welcome the season with a burst of color\, laughter\, and community spirit. \n  \nHoli powder will be available for purchase this year.  \n  \nLet’s celebrate spring the most colorful way!
URL:https://www.bishopranch.com/br-event/holi-celebration/
LOCATION:2700 Camino Ramon\, 2700 Camino Ramon\, San Ramon\, CA\, 94583\, United States
CATEGORIES:City Center,Special Events
ATTACH;FMTTYPE=image/png:https://www.bishopranch.com/wp-content/uploads/2025/01/BR-Website-3.png
END:VEVENT
BEGIN:VEVENT
DTSTART;TZID=America/Denver:20250830T120000
DTEND;TZID=America/Denver:20250830T220000
DTSTAMP:20260425T064840
CREATED:20250820T161814Z
LAST-MODIFIED:20250820T161814Z
UID:10000104-1756555200-1756591200@www.bishopranch.com
SUMMARY:Ganpati Bappa Morya
DESCRIPTION:Celebrate the spirit of community and tradition at Ganpati Bappa Morya – Bay Area’s Grand Ganesh Festival on Saturday\, August 30. From noon until 10:00 PM\, the festival grounds behind City Center Bishop Ranch will come alive with music\, dance\, cultural performances\, and the joyful energy of one of India’s most beloved celebrations. Guests will experience the vibrant sights and sounds of Ganesh Chaturthi\, from devotional ceremonies to colorful entertainment\, alongside delicious food and activities for all ages. This free\, family-friendly festival welcomes everyone to join in honoring Lord Ganesha while enjoying a full day of festivities\, connection\, and cultural immersion. Complimentary parking will be available
URL:https://www.bishopranch.com/br-event/ganpati-bappa-morya/
LOCATION:2700 Camino Ramon\, 2700 Camino Ramon\, San Ramon\, CA\, 94583\, United States
CATEGORIES:Special Events
ATTACH;FMTTYPE=image/png:https://www.bishopranch.com/wp-content/uploads/2025/08/ganpati-br-event.png
END:VEVENT
BEGIN:VEVENT
DTSTART;TZID=America/Denver:20250510T140000
DTEND;TZID=America/Denver:20250510T230000
DTSTAMP:20260425T064840
CREATED:20250423T171235Z
LAST-MODIFIED:20250430T194905Z
UID:10000099-1746885600-1746918000@www.bishopranch.com
SUMMARY:The Great Indian Food & Shopping Fest
DESCRIPTION:The Bay Area’s most flavorful evening is back! GIFS 2025 brings together the best of Indian culture\, cuisine\, and community in one dynamic outdoor festival. From sizzling street food and the popular Mango Fest to over 100 vibrant vendor booths\, there’s something to discover around every corner. \nEnjoy live performances\, carnival games\, amusement rides\, DJ beats\, raffles\, and nonstop festive energy. Whether you’re coming for the flavors\, the shopping\, or the entertainment\, this is one celebration you won’t want to miss. \nConveniently located just behind City Center Bishop Ranch. Free to attend\, free to park—everyone’s invited.
URL:https://www.bishopranch.com/br-event/the-great-indian-food-shopping-fest/
LOCATION:2700 Camino Ramon\, 2700 Camino Ramon\, San Ramon\, CA\, 94583\, United States
ATTACH;FMTTYPE=image/png:https://www.bishopranch.com/wp-content/uploads/2025/04/baazar-3.png
END:VEVENT
END:VCALENDAR