BEGIN:VCALENDAR
VERSION:2.0
PRODID:-//Bishop Ranch - ECPv6.15.20//NONSGML v1.0//EN
CALSCALE:GREGORIAN
METHOD:PUBLISH
X-WR-CALNAME:Bishop Ranch
X-ORIGINAL-URL:https://www.bishopranch.com
X-WR-CALDESC:Events for Bishop Ranch
REFRESH-INTERVAL;VALUE=DURATION:PT1H
X-Robots-Tag:noindex
X-PUBLISHED-TTL:PT1H
BEGIN:VTIMEZONE
TZID:America/Denver
BEGIN:DAYLIGHT
TZOFFSETFROM:-0700
TZOFFSETTO:-0600
TZNAME:MDT
DTSTART:20230312T090000
END:DAYLIGHT
BEGIN:STANDARD
TZOFFSETFROM:-0600
TZOFFSETTO:-0700
TZNAME:MST
DTSTART:20231105T080000
END:STANDARD
BEGIN:DAYLIGHT
TZOFFSETFROM:-0700
TZOFFSETTO:-0600
TZNAME:MDT
DTSTART:20240310T090000
END:DAYLIGHT
BEGIN:STANDARD
TZOFFSETFROM:-0600
TZOFFSETTO:-0700
TZNAME:MST
DTSTART:20241103T080000
END:STANDARD
BEGIN:DAYLIGHT
TZOFFSETFROM:-0700
TZOFFSETTO:-0600
TZNAME:MDT
DTSTART:20250309T090000
END:DAYLIGHT
BEGIN:STANDARD
TZOFFSETFROM:-0600
TZOFFSETTO:-0700
TZNAME:MST
DTSTART:20251102T080000
END:STANDARD
BEGIN:DAYLIGHT
TZOFFSETFROM:-0700
TZOFFSETTO:-0600
TZNAME:MDT
DTSTART:20260308T090000
END:DAYLIGHT
BEGIN:STANDARD
TZOFFSETFROM:-0600
TZOFFSETTO:-0700
TZNAME:MST
DTSTART:20261101T080000
END:STANDARD
END:VTIMEZONE
BEGIN:VEVENT
DTSTART;TZID=America/Denver:20251022T120000
DTEND;TZID=America/Denver:20251022T130000
DTSTAMP:20260423T040519
CREATED:20250905T235759Z
LAST-MODIFIED:20251013T215424Z
UID:10000115-1761134400-1761138000@www.bishopranch.com
SUMMARY:BR Weekly Run Club
DESCRIPTION:Looking for a fun\, social way to stay active? Join the BR Run Club! Every Wednesday at noon\, Roundhouse Fitness members gather for runs. It’s a great way to get moving\, meet new people and train for upcoming races like the Beer City Run (Oct. 26) and Turkey Trot (Nov. 27). Not a member yet? Flexible\, affordable options make it easy to join in. \n\n\n\nEmail to register: info@roundhouse-fitness.com \n\n 
URL:https://www.bishopranch.com/br-event/br-weekly-run-club-2025-10-22/
CATEGORIES:BR Balance
ATTACH;FMTTYPE=image/png:https://www.bishopranch.com/wp-content/uploads/2025/09/Run-Club-BR-Landscape.png
END:VEVENT
BEGIN:VEVENT
DTSTART;TZID=America/Denver:20251015T120000
DTEND;TZID=America/Denver:20251015T130000
DTSTAMP:20260423T040519
CREATED:20250905T235759Z
LAST-MODIFIED:20251013T215704Z
UID:10000114-1760529600-1760533200@www.bishopranch.com
SUMMARY:BR Weekly Run Club
DESCRIPTION:Looking for a fun\, social way to stay active? Join the BR Run Club! Every Wednesday at noon\, Roundhouse Fitness members gather for runs. It’s a great way to get moving\, meet new people and train for upcoming races like the Beer City Run (Oct. 26) and Turkey Trot (Nov. 27). Not a member yet? Flexible\, affordable options make it easy to join in. \n\n\n \nEmail to register: info@roundhouse-fitness.com \n \n\n 
URL:https://www.bishopranch.com/br-event/br-weekly-run-club-2025-10-15/
CATEGORIES:BR Balance
ATTACH;FMTTYPE=image/png:https://www.bishopranch.com/wp-content/uploads/2025/09/Run-Club-BR-Landscape.png
END:VEVENT
BEGIN:VEVENT
DTSTART;TZID=America/Denver:20251012T080000
DTEND;TZID=America/Denver:20251012T120000
DTSTAMP:20260423T040519
CREATED:20250918T223841Z
LAST-MODIFIED:20250918T223904Z
UID:10000116-1760256000-1760270400@www.bishopranch.com
SUMMARY:SRVEF 42nd Run for Education
DESCRIPTION:Join the San Ramon Valley Education Foundation’s 42nd Run for Education on Sunday\, October 12\, 2025. Walk or run at your own pace. Then\, enjoy the Expo for Education featuring a kids’ zone\, inflatable games\, face painter\, post-race refreshments\, exhibitor booths\, and drawings for over $1\,000 in prizes (must be present to win). \nAdding to the fun: School bands\, cheer teams\, and mascots on the course. \nThe Run for Education\, hosted by the San Ramon Valley Education Foundation\, is a tradition in the San Ramon Valley and supports the education of all students in the San Ramon Valley Unified School District. For more information including a list of the amazing group perks\, visit: srvef.org/the-run \nRegister Here \nLooking for an easy and fun way to get involved? Join us as a volunteer by clicking here.
URL:https://www.bishopranch.com/br-event/srvef-42nd-run-for-education/
CATEGORIES:BR Balance
ATTACH;FMTTYPE=image/png:https://www.bishopranch.com/wp-content/uploads/2025/09/Run-for-Education-BR-Landscape-.png
END:VEVENT
BEGIN:VEVENT
DTSTART;TZID=America/Denver:20251008T120000
DTEND;TZID=America/Denver:20251008T130000
DTSTAMP:20260423T040519
CREATED:20250905T235759Z
LAST-MODIFIED:20250923T152120Z
UID:10000113-1759924800-1759928400@www.bishopranch.com
SUMMARY:BR Weekly Run Club
DESCRIPTION:Looking for a fun\, social way to stay active? Join the BR Run Club! Every Wednesday at noon\, Roundhouse Fitness members gather for runs. It’s a great way to get moving\, meet new people and train for upcoming races like the Beer City Run (Oct. 26) and Turkey Trot (Nov. 27). Not a member yet? Flexible\, affordable options make it easy to join in. \n\n\n\nEmail to register: info@roundhouse-fitness.com \n\n 
URL:https://www.bishopranch.com/br-event/br-weekly-run-club-2025-10-08/
CATEGORIES:BR Balance
ATTACH;FMTTYPE=image/png:https://www.bishopranch.com/wp-content/uploads/2025/09/Run-Club-BR-Landscape.png
END:VEVENT
BEGIN:VEVENT
DTSTART;TZID=America/Denver:20251001T120000
DTEND;TZID=America/Denver:20251001T130000
DTSTAMP:20260423T040519
CREATED:20250905T235759Z
LAST-MODIFIED:20250923T152128Z
UID:10000112-1759320000-1759323600@www.bishopranch.com
SUMMARY:BR Weekly Run Club
DESCRIPTION:Looking for a fun\, social way to stay active? Join the BR Run Club! Every Wednesday at noon\, Roundhouse Fitness members gather for runs. It’s a great way to get moving\, meet new people and train for upcoming races like the Beer City Run (Oct. 26) and Turkey Trot (Nov. 27). Not a member yet? Flexible\, affordable options make it easy to join in. \n\n\n\nEmail to register: info@roundhouse-fitness.com \n\n 
URL:https://www.bishopranch.com/br-event/br-weekly-run-club-2025-10-01/
CATEGORIES:BR Balance
ATTACH;FMTTYPE=image/png:https://www.bishopranch.com/wp-content/uploads/2025/09/Run-Club-BR-Landscape.png
END:VEVENT
BEGIN:VEVENT
DTSTART;TZID=America/Denver:20250927T100000
DTEND;TZID=America/Denver:20250927T170000
DTSTAMP:20260423T040519
CREATED:20250919T182110Z
LAST-MODIFIED:20250919T182110Z
UID:10000117-1758967200-1758992400@www.bishopranch.com
SUMMARY:Kids Teach Tech: Unlock the Power of AI
DESCRIPTION:On Saturday\, September 27\, from 10:00 am to 5:00 pm\, Kids Teach Tech will host Unlock the Power of AI at Bishop Ranch. This free\, hands-on workshop invites kids and teens to discover how artificial intelligence can help them create jaw-dropping art\, write amazing stories\, and bring bold ideas to life—no coding required. \nThe program also celebrates Hispanic Heritage Month\, inspiring the next generation to explore technology with creativity and confidence.
URL:https://www.bishopranch.com/br-event/kids-teach-tech-unlock-the-power-of-ai/
ATTACH;FMTTYPE=application/pdf:https://www.bishopranch.com/wp-content/uploads/2025/09/KTT-AI-Website-1.pdf
ORGANIZER;CN="Bishop Ranch Organizer":MAILTO:contact@bishopranch.com
END:VEVENT
BEGIN:VEVENT
DTSTART;TZID=America/Denver:20250924T120000
DTEND;TZID=America/Denver:20250924T130000
DTSTAMP:20260423T040519
CREATED:20250905T235759Z
LAST-MODIFIED:20250923T152136Z
UID:10000111-1758715200-1758718800@www.bishopranch.com
SUMMARY:BR Weekly Run Club
DESCRIPTION:Looking for a fun\, social way to stay active? Join the BR Run Club! Every Wednesday at noon\, Roundhouse Fitness members gather for runs. It’s a great way to get moving\, meet new people and train for upcoming races like the Beer City Run (Oct. 26) and Turkey Trot (Nov. 27). Not a member yet? Flexible\, affordable options make it easy to join in. \n\n\n\nEmail to register: info@roundhouse-fitness.com \n\n 
URL:https://www.bishopranch.com/br-event/br-weekly-run-club-2025-09-24/
CATEGORIES:BR Balance
ATTACH;FMTTYPE=image/png:https://www.bishopranch.com/wp-content/uploads/2025/09/Run-Club-BR-Landscape.png
END:VEVENT
BEGIN:VEVENT
DTSTART;VALUE=DATE:20250919
DTEND;VALUE=DATE:20250929
DTSTAMP:20260423T040519
CREATED:20250103T000050Z
LAST-MODIFIED:20250502T212932Z
UID:10000095-1758240000-1759103999@www.bishopranch.com
SUMMARY:City Center Restaurant Week
DESCRIPTION:Join your favorite participating City Center restaurants and experience Restaurant Week with special menu items or discounts.
URL:https://www.bishopranch.com/br-event/city-center-restaurant-week/
LOCATION:City Center Bishop Ranch\, 6000 Bollinger Canyon Road\, San Ramon\, CA\, 94583\, United States
CATEGORIES:City Center,Special Events
ATTACH;FMTTYPE=image/png:https://www.bishopranch.com/wp-content/uploads/2025/01/br-web-jazz-2-812-x-530-px-2.png
GEO:37.7633211;-121.9594424
X-APPLE-STRUCTURED-LOCATION;VALUE=URI;X-ADDRESS=City Center Bishop Ranch 6000 Bollinger Canyon Road San Ramon CA 94583 United States;X-APPLE-RADIUS=500;X-TITLE=6000 Bollinger Canyon Road:geo:-121.9594424,37.7633211
END:VEVENT
BEGIN:VEVENT
DTSTART;TZID=America/Denver:20250917T120000
DTEND;TZID=America/Denver:20250917T130000
DTSTAMP:20260423T040519
CREATED:20250905T235759Z
LAST-MODIFIED:20250923T152147Z
UID:10000110-1758110400-1758114000@www.bishopranch.com
SUMMARY:BR Weekly Run Club
DESCRIPTION:Looking for a fun\, social way to stay active? Join the BR Run Club! Every Wednesday at noon\, Roundhouse Fitness members gather for runs. It’s a great way to get moving\, meet new people and train for upcoming races like the Beer City Run (Oct. 26) and Turkey Trot (Nov. 27). Not a member yet? Flexible\, affordable options make it easy to join in. \n\n\n\nEmail to register: info@roundhouse-fitness.com \n\n 
URL:https://www.bishopranch.com/br-event/br-weekly-run-club-2025-09-17/
CATEGORIES:BR Balance
ATTACH;FMTTYPE=image/png:https://www.bishopranch.com/wp-content/uploads/2025/09/Run-Club-BR-Landscape.png
END:VEVENT
BEGIN:VEVENT
DTSTART;TZID=America/Denver:20250916T100000
DTEND;TZID=America/Denver:20251028T120000
DTSTAMP:20260423T040519
CREATED:20250904T215602Z
LAST-MODIFIED:20250904T234424Z
UID:10000106-1758016800-1761652800@www.bishopranch.com
SUMMARY:Psystrong Workshops
DESCRIPTION:Roundhouse Conference Center | Sept. 16\, Oct. 7 + 28 | 10am – 12pm \nReady to level up at work — with more clarity and less stress? We’re excited to welcome Robin Yeganeh\, Ph.D. of Psystrong and UC Berkeley for a three-part interactive workshop series. Psystrong teaches building resilience\, communicating with confidence and finding more purpose in your workday. FREE to attend — register below.
URL:https://www.bishopranch.com/br-event/psytrong-workshops/
ATTACH;FMTTYPE=image/png:https://www.bishopranch.com/wp-content/uploads/2025/09/Psystrong-Workshop-BR-Landscape-2.png
ORGANIZER;CN="Bishop Ranch Organizer":MAILTO:contact@bishopranch.com
END:VEVENT
BEGIN:VEVENT
DTSTART;VALUE=DATE:20250916
DTEND;VALUE=DATE:20251102
DTSTAMP:20260423T040519
CREATED:20250904T232305Z
LAST-MODIFIED:20250905T195544Z
UID:10000108-1757980800-1762041599@www.bishopranch.com
SUMMARY:John Muir Health Webinars
DESCRIPTION:Sept. 16\, 17 | Oct. 2\, 21 | Nov. 1 \nJMH is hosting a series of webinars on mental health and cancer awareness this fall. The series features a special session on Loneliness Across the Lifespan\, followed by expert-led discussions on cancer. Each webinar offers valuable insights on prevention\, treatment\, and overall well-being. All sessions are free — register below. \nMore details here: https://us06web.zoom.us/webinar/register/WN_RQDoBmMTSBq340uQgfDpPg#/registration
URL:https://www.bishopranch.com/br-event/john-muir-health/
ATTACH;FMTTYPE=image/png:https://www.bishopranch.com/wp-content/uploads/2025/09/John-Muir-BR-Landscape-1.png
ORGANIZER;CN="Bishop Ranch Organizer":MAILTO:contact@bishopranch.com
END:VEVENT
BEGIN:VEVENT
DTSTART;TZID=America/Denver:20250913T073000
DTEND;TZID=America/Denver:20250913T120000
DTSTAMP:20260423T040519
CREATED:20250715T163747Z
LAST-MODIFIED:20250828T165759Z
UID:10000101-1757748600-1757764800@www.bishopranch.com
SUMMARY:15th Annual Stride for Hope
DESCRIPTION:The 15th Annual Stride for Hope returns to San Ramon—a meaningful morning of movement\, remembrance\, and community. This isn’t just a 5K. It’s a tribute to donors\, a celebration of recipients\, and a show of support for those still waiting. \nLace up and walk\, run\, or cheer as we honor lives changed through donation. Enjoy music\, family-friendly fun\, and inspiring stories along the way. Every step moves the mission forward.
URL:https://www.bishopranch.com/br-event/15th-annual-stride-for-hope/
ATTACH;FMTTYPE=image/jpeg:https://www.bishopranch.com/wp-content/uploads/2025/07/BR_DNWF_TenantHub_2025-1.jpg
END:VEVENT
BEGIN:VEVENT
DTSTART;TZID=America/Denver:20250911T100000
DTEND;TZID=America/Denver:20251106T110000
DTSTAMP:20260423T040519
CREATED:20250904T222543Z
LAST-MODIFIED:20250904T222557Z
UID:10000107-1757584800-1762426800@www.bishopranch.com
SUMMARY:Equinox Fitness Classes
DESCRIPTION:Bishop Ranch + City Center | Sept. 11\, Oct. 9\, Nov. 6 | 10am – 11am \nEnjoy free outdoor classes led by expert instructors from Equinox. Refresh your body and mind with: Yoga – Sept. 11 at City Center. Mat Pilates – Oct. 9 at City Center. Stretch Class – Nov. 6 at Annabel Lake. Spots are FREE but limited —register to save yours.
URL:https://www.bishopranch.com/br-event/equinox-fitness-classes/
ATTACH;FMTTYPE=image/png:https://www.bishopranch.com/wp-content/uploads/2025/09/Equinox-Fitness-Classes-BR-Landscape-1.png
ORGANIZER;CN="Bishop Ranch Organizer":MAILTO:contact@bishopranch.com
END:VEVENT
BEGIN:VEVENT
DTSTART;TZID=America/Denver:20250903T120000
DTEND;TZID=America/Denver:20251022T130000
DTSTAMP:20260423T040519
CREATED:20250905T235759Z
LAST-MODIFIED:20250916T191213Z
UID:10000109-1756900800-1761138000@www.bishopranch.com
SUMMARY:BR Weekly Run Club
DESCRIPTION:Looking for a fun\, social way to stay active? Join the BR Run Club! Every Wednesday at noon\, Roundhouse Fitness members gather for runs. It’s a great way to get moving\, meet new people and train for upcoming races like the Beer City Run (Oct. 26) and Turkey Trot (Nov. 27). Not a member yet? Flexible\, affordable options make it easy to join in. \n\n\n\nEmail to register: info@roundhouse-fitness.com \n\n 
URL:https://www.bishopranch.com/br-event/br-weekly-run-club/
CATEGORIES:BR Balance
ATTACH;FMTTYPE=image/png:https://www.bishopranch.com/wp-content/uploads/2025/09/Run-Club-BR-Landscape.png
END:VEVENT
BEGIN:VEVENT
DTSTART;VALUE=DATE:20250901
DTEND;VALUE=DATE:20251128
DTSTAMP:20260423T040519
CREATED:20250904T205210Z
LAST-MODIFIED:20250904T220139Z
UID:10000105-1756684800-1764287999@www.bishopranch.com
SUMMARY:BR Balance
DESCRIPTION:Wellness isn’t a luxury — it’s a baseline. At Bishop Ranch\, we’re making it easier to care for your mental\, physical\, and social well-being with smart\, accessible programs this fall. From guided runs to leadership workshops and casual ways to connect — it’s all here\, so you can make time for yourself without overhauling your calendar. \nMENTAL: Workshops with UC Berkeley faculty\, webinars with John Muir Health\, and a mobile app that nudges daily mental breaks — with prizes along the way. \nPHYSICAL: Outdoor group classes with Equinox\, a weekly run club with Roundhouse Fitness\, run/walk race events\, plus activity check-ins through the app. \nSOCIAL: Happy hours\, recreational activities\, farmers markets\, and special happenings at City Center — all designed to make it easier to unwind after work.
URL:https://www.bishopranch.com/br-event/br-balance/
ATTACH;FMTTYPE=image/jpeg:https://www.bishopranch.com/wp-content/uploads/2025/09/BR-Balance-1920x1080-1.jpg
ORGANIZER;CN="Bishop Ranch Organizer":MAILTO:contact@bishopranch.com
END:VEVENT
BEGIN:VEVENT
DTSTART;TZID=America/Denver:20250830T120000
DTEND;TZID=America/Denver:20250830T220000
DTSTAMP:20260423T040519
CREATED:20250820T161814Z
LAST-MODIFIED:20250820T161814Z
UID:10000104-1756555200-1756591200@www.bishopranch.com
SUMMARY:Ganpati Bappa Morya
DESCRIPTION:Celebrate the spirit of community and tradition at Ganpati Bappa Morya – Bay Area’s Grand Ganesh Festival on Saturday\, August 30. From noon until 10:00 PM\, the festival grounds behind City Center Bishop Ranch will come alive with music\, dance\, cultural performances\, and the joyful energy of one of India’s most beloved celebrations. Guests will experience the vibrant sights and sounds of Ganesh Chaturthi\, from devotional ceremonies to colorful entertainment\, alongside delicious food and activities for all ages. This free\, family-friendly festival welcomes everyone to join in honoring Lord Ganesha while enjoying a full day of festivities\, connection\, and cultural immersion. Complimentary parking will be available
URL:https://www.bishopranch.com/br-event/ganpati-bappa-morya/
LOCATION:2700 Camino Ramon\, 2700 Camino Ramon\, San Ramon\, CA\, 94583\, United States
CATEGORIES:Special Events
ATTACH;FMTTYPE=image/png:https://www.bishopranch.com/wp-content/uploads/2025/08/ganpati-br-event.png
END:VEVENT
BEGIN:VEVENT
DTSTART;TZID=America/Denver:20250819T170000
DTEND;TZID=America/Denver:20250819T200000
DTSTAMP:20260423T040519
CREATED:20250815T175443Z
LAST-MODIFIED:20250815T194625Z
UID:10000103-1755622800-1755633600@www.bishopranch.com
SUMMARY:The AI Collective Tri-Valley Ai Builders & Backers: Demos and Funding Tactics
DESCRIPTION:Join The AI Collective at Bishop Ranch for an evening connecting the next generation of AI talent with seasoned investors. Doors open at 5 PM for mingling\, followed by student demos from Stanford\, UCSD\, and UC Berkeley at 6 PM and a fireside chat with Jimmy Ku\, founder of My Ventures\, at 6:30 PM. The event is family-friendly for kids 6+ with a craft corner\, and runs until 8 PM with food\, drinks\, and networking. Space is limited—apply early!
URL:https://www.bishopranch.com/br-event/the-ai-collective-tri-valley-ai-builders-backers-demos-and-funding-tactics/
ATTACH;FMTTYPE=image/png:https://www.bishopranch.com/wp-content/uploads/2025/08/image-5.png
END:VEVENT
BEGIN:VEVENT
DTSTART;TZID=America/Denver:20250510T140000
DTEND;TZID=America/Denver:20250510T230000
DTSTAMP:20260423T040519
CREATED:20250423T171235Z
LAST-MODIFIED:20250430T194905Z
UID:10000099-1746885600-1746918000@www.bishopranch.com
SUMMARY:The Great Indian Food & Shopping Fest
DESCRIPTION:The Bay Area’s most flavorful evening is back! GIFS 2025 brings together the best of Indian culture\, cuisine\, and community in one dynamic outdoor festival. From sizzling street food and the popular Mango Fest to over 100 vibrant vendor booths\, there’s something to discover around every corner. \nEnjoy live performances\, carnival games\, amusement rides\, DJ beats\, raffles\, and nonstop festive energy. Whether you’re coming for the flavors\, the shopping\, or the entertainment\, this is one celebration you won’t want to miss. \nConveniently located just behind City Center Bishop Ranch. Free to attend\, free to park—everyone’s invited.
URL:https://www.bishopranch.com/br-event/the-great-indian-food-shopping-fest/
LOCATION:2700 Camino Ramon\, 2700 Camino Ramon\, San Ramon\, CA\, 94583\, United States
ATTACH;FMTTYPE=image/png:https://www.bishopranch.com/wp-content/uploads/2025/04/baazar-3.png
END:VEVENT
BEGIN:VEVENT
DTSTART;TZID=America/Denver:20250501T123000
DTEND;TZID=America/Denver:20250501T133000
DTSTAMP:20260423T040519
CREATED:20250325T172528Z
LAST-MODIFIED:20250423T171951Z
UID:10000098-1746102600-1746106200@www.bishopranch.com
SUMMARY:SF Opera Bohème Out of the Box Performance
DESCRIPTION:San Francisco Opera is bringing Bohème Out of the Box to Bishop Ranch\, in partnership with the City of San Ramon. This free\, one-hour adaptation of Puccini’s La Bohème offers a rare opportunity to experience world-class opera outside the traditional theater. Performed by San Francisco Opera’s guest artists and Adler Fellows on a mobile opera stage\, the production is sung in Italian with live English translations accessible on smartphones. \nSet in the square at City Center Bishop Ranch\, this midday performance provides a unique cultural interlude—perfect for a lunch break or an afternoon reset. Families with young children are invited to arrive early at 12pm for a First Act Workshop\, a free\, interactive session introducing young audiences to the music and story of La Bohème. \nAttendees can enjoy the performance from the shaded lawn with a picnic blanket or take advantage of provided seating (outside chairs not permitted). Ample parking is available\, and guests are encouraged to explore the diverse dining options at City Center. \nPerformance details are subject to change.
URL:https://www.bishopranch.com/br-event/sf-opera-boheme-out-of-the-box-performance/
LOCATION:City Center Bishop Ranch\, 6000 Bollinger Canyon Road\, San Ramon\, CA\, 94583\, United States
CATEGORIES:City Center
ATTACH;FMTTYPE=image/png:https://www.bishopranch.com/wp-content/uploads/2025/03/BohemeOutOfTheBox_812x530-1.png
GEO:37.7633211;-121.9594424
X-APPLE-STRUCTURED-LOCATION;VALUE=URI;X-ADDRESS=City Center Bishop Ranch 6000 Bollinger Canyon Road San Ramon CA 94583 United States;X-APPLE-RADIUS=500;X-TITLE=6000 Bollinger Canyon Road:geo:-121.9594424,37.7633211
END:VEVENT
BEGIN:VEVENT
DTSTART;TZID=America/Denver:20240801T153000
DTEND;TZID=America/Denver:20250828T173000
DTSTAMP:20260423T040519
CREATED:20240129T195132Z
LAST-MODIFIED:20250106T192843Z
UID:10000083-1722526200-1756402200@www.bishopranch.com
SUMMARY:Happy Hour at Lakeside Cafe
DESCRIPTION:The welcoming crew at Lakeside Cafe has marked the return of their Thursday Happy Hours\, where they serve wine & beer from 3:30 pm to 5:30 pm. Their bright spot by the Lake at Bishop Ranch 2600 is a great place to gather with friends and co-workers at the end of your workday.
URL:https://www.bishopranch.com/br-event/happy-hour-at-lakeside-cafe-2/
LOCATION:Lakeside Cafe at BR2600\, 2600 Camino Ramon\, San Ramon\, CA\, 94583\, United States
ATTACH;FMTTYPE=image/jpeg:https://www.bishopranch.com/wp-content/uploads/2023/07/br-events-happy-hour-lakeside-cafe.jpg
GEO:37.7709262;-121.964568
X-APPLE-STRUCTURED-LOCATION;VALUE=URI;X-ADDRESS=Lakeside Cafe at BR2600 2600 Camino Ramon San Ramon CA 94583 United States;X-APPLE-RADIUS=500;X-TITLE=2600 Camino Ramon:geo:-121.964568,37.7709262
END:VEVENT
END:VCALENDAR